Package: GENESIS Version: 2.39.3 Command: /home/biocbuild/bbs-3.22-bioc/R/bin/R CMD INSTALL GENESIS StartedAt: 2025-10-05 15:23:16 -0400 (Sun, 05 Oct 2025) EndedAt: 2025-10-05 15:23:41 -0400 (Sun, 05 Oct 2025) EllapsedTime: 25.4 seconds RetCode: 0 Status: OK