Package: GENESIS Version: 2.39.3 Command: /home/biocbuild/bbs-3.22-bioc/R/bin/R CMD build --keep-empty-dirs --no-resave-data --md5 GENESIS StartedAt: 2025-10-05 17:48:32 -0400 (Sun, 05 Oct 2025) EndedAt: 2025-10-05 17:50:15 -0400 (Sun, 05 Oct 2025) EllapsedTime: 103.1 seconds RetCode: 0 Status: OK PackageFile: GENESIS_2.39.3.tar.gz PackageFileSize: 3.818 MiB