Package: GENESIS Version: 2.39.0 Command: /Library/Frameworks/R.framework/Resources/bin/R CMD check --install=check:GENESIS.install-out.txt --library=/Library/Frameworks/R.framework/Resources/library --no-vignettes --timings GENESIS_2.39.0.tar.gz StartedAt: 2025-05-08 19:43:06 -0400 (Thu, 08 May 2025) EndedAt: 2025-05-08 19:45:36 -0400 (Thu, 08 May 2025) EllapsedTime: 150.7 seconds RetCode: 0 Status: OK CheckDir: GENESIS.Rcheck Warnings: 0