Package: GEM Version: 1.35.0 Command: /home/biocbuild/bbs-3.22-bioc/R/bin/R CMD INSTALL GEM StartedAt: 2025-10-07 15:07:22 -0400 (Tue, 07 Oct 2025) EndedAt: 2025-10-07 15:07:32 -0400 (Tue, 07 Oct 2025) EllapsedTime: 10.4 seconds RetCode: 0 Status: OK