Package: GEM Version: 1.35.0 Command: /home/biocbuild/bbs-3.22-bioc/R/bin/R CMD build --keep-empty-dirs --no-resave-data --md5 GEM StartedAt: 2025-10-07 17:46:54 -0400 (Tue, 07 Oct 2025) EndedAt: 2025-10-07 17:47:11 -0400 (Tue, 07 Oct 2025) EllapsedTime: 17.0 seconds RetCode: 0 Status: OK PackageFile: GEM_1.35.0.tar.gz PackageFileSize: 635.7 KiB