Package: GEM Version: 1.35.0 Command: /Library/Frameworks/R.framework/Resources/bin/R CMD build --keep-empty-dirs --no-resave-data GEM StartedAt: 2025-05-22 16:50:16 -0400 (Thu, 22 May 2025) EndedAt: 2025-05-22 16:50:43 -0400 (Thu, 22 May 2025) EllapsedTime: 26.4 seconds RetCode: 0 Status: OK PackageFile: GEM_1.35.0.tar.gz PackageFileSize: 689.2 KiB