Package: GDSArray Version: 1.27.0 Command: /home/biocbuild/R/R/bin/R CMD check --install=check:GDSArray.install-out.txt --library=/home/biocbuild/R/R/site-library --no-vignettes --timings GDSArray_1.27.0.tar.gz StartedAt: 2025-01-28 10:48:13 -0000 (Tue, 28 Jan 2025) EndedAt: 2025-01-28 10:50:50 -0000 (Tue, 28 Jan 2025) EllapsedTime: 157.1 seconds RetCode: 0 Status: WARNINGS CheckDir: GDSArray.Rcheck Warnings: 2