Package: GDSArray Version: 1.27.0 Command: /Library/Frameworks/R.framework/Resources/bin/R CMD check --install=check:GDSArray.install-out.txt --library=/Library/Frameworks/R.framework/Resources/library --no-vignettes --timings GDSArray_1.27.0.tar.gz StartedAt: 2025-02-03 19:56:44 -0500 (Mon, 03 Feb 2025) EndedAt: 2025-02-03 19:57:31 -0500 (Mon, 03 Feb 2025) EllapsedTime: 46.5 seconds RetCode: 0 Status: WARNINGS CheckDir: GDSArray.Rcheck Warnings: 2