Package: GDSArray Version: 1.27.0 Command: rm -rf GDSArray.buildbin-libdir && mkdir GDSArray.buildbin-libdir && /Users/biocbuild/BBS/utils/build-universal.sh GDSArray_1.27.0.tar.gz /Library/Frameworks/R.framework/Resources/bin/R GDSArray.buildbin-libdir StartedAt: 2025-02-03 22:51:04 -0500 (Mon, 03 Feb 2025) EndedAt: 2025-02-03 22:51:12 -0500 (Mon, 03 Feb 2025) EllapsedTime: 8.1 seconds RetCode: 0 Status: OK PackageFile: GDSArray_1.27.0.tgz PackageFileSize: 667.1 KiB