Package: GDCRNATools Version: 1.29.0 Command: /home/biocbuild/bbs-3.22-bioc/R/bin/R CMD INSTALL GDCRNATools StartedAt: 2025-10-03 15:47:30 -0400 (Fri, 03 Oct 2025) EndedAt: 2025-10-03 15:48:28 -0400 (Fri, 03 Oct 2025) EllapsedTime: 58.6 seconds RetCode: 0 Status: OK