Package: GDCRNATools Version: 1.29.0 Command: rm -rf GDCRNATools.buildbin-libdir && mkdir GDCRNATools.buildbin-libdir && /Users/biocbuild/BBS/utils/build-universal.sh GDCRNATools_1.29.0.tar.gz /Library/Frameworks/R.framework/Resources/bin/R GDCRNATools.buildbin-libdir StartedAt: 2025-05-16 22:07:40 -0400 (Fri, 16 May 2025) EndedAt: 2025-05-16 22:08:07 -0400 (Fri, 16 May 2025) EllapsedTime: 26.5 seconds RetCode: 0 Status: OK PackageFile: GDCRNATools_1.29.0.tgz PackageFileSize: 3.371 MiB