Package: GCPtools Version: 0.99.4 Command: /home/biocbuild/bbs-3.22-bioc/R/bin/R CMD INSTALL GCPtools StartedAt: 2025-10-22 15:09:11 -0400 (Wed, 22 Oct 2025) EndedAt: 2025-10-22 15:09:19 -0400 (Wed, 22 Oct 2025) EllapsedTime: 8.3 seconds RetCode: 0 Status: OK