Package: GCPtools Version: 0.99.4 Command: /home/biocbuild/bbs-3.22-bioc/R/bin/R CMD build --keep-empty-dirs --no-resave-data --md5 GCPtools StartedAt: 2025-10-22 17:44:40 -0400 (Wed, 22 Oct 2025) EndedAt: 2025-10-22 17:44:47 -0400 (Wed, 22 Oct 2025) EllapsedTime: 7.0 seconds RetCode: 0 Status: OK PackageFile: GCPtools_0.99.4.tar.gz PackageFileSize: 302.6 KiB