Package: GBScleanR Version: 2.3.2 Command: /home/biocbuild/bbs-3.22-bioc/R/bin/R CMD INSTALL GBScleanR StartedAt: 2025-10-22 15:32:06 -0400 (Wed, 22 Oct 2025) EndedAt: 2025-10-22 15:32:53 -0400 (Wed, 22 Oct 2025) EllapsedTime: 46.3 seconds RetCode: 0 Status: OK