Package: GARS Version: 1.27.0 Command: chmod a+r GARS -R && E:\biocbuild\bbs-3.21-bioc\R\bin\R.exe CMD build --keep-empty-dirs --no-resave-data GARS StartedAt: 2025-02-03 19:00:30 -0500 (Mon, 03 Feb 2025) EndedAt: 2025-02-03 19:03:03 -0500 (Mon, 03 Feb 2025) EllapsedTime: 153.9 seconds RetCode: 0 Status: OK PackageFile: GARS_1.27.0.tar.gz PackageFileSize: 439.2 KiB