Package: GARS Version: 1.29.0 Command: /home/biocbuild/bbs-3.22-bioc/R/bin/R CMD INSTALL GARS StartedAt: 2025-09-29 16:04:12 -0400 (Mon, 29 Sep 2025) EndedAt: 2025-09-29 16:05:30 -0400 (Mon, 29 Sep 2025) EllapsedTime: 77.4 seconds RetCode: 0 Status: OK