Package: GARS Version: 1.27.0 Command: /home/biocbuild/R/R/bin/R CMD build --keep-empty-dirs --no-resave-data GARS StartedAt: 2025-01-28 23:00:17 -0000 (Tue, 28 Jan 2025) EndedAt: 2025-01-28 23:02:55 -0000 (Tue, 28 Jan 2025) EllapsedTime: 158.1 seconds RetCode: 0 Status: OK PackageFile: GARS_1.27.0.tar.gz PackageFileSize: 431.7 KiB