Package: GA4GHclient Version: 1.31.0 Command: E:\biocbuild\bbs-3.21-bioc\R\bin\R.exe CMD check --no-multiarch --install=check:GA4GHclient.install-out.txt --library=E:\biocbuild\bbs-3.21-bioc\R\library --no-vignettes --timings GA4GHclient_1.31.0.tar.gz StartedAt: 2025-02-04 01:41:54 -0500 (Tue, 04 Feb 2025) EndedAt: 2025-02-04 01:47:04 -0500 (Tue, 04 Feb 2025) EllapsedTime: 310.5 seconds RetCode: 0 Status: OK CheckDir: GA4GHclient.Rcheck Warnings: 0