Package: GA4GHclient Version: 1.31.0 Command: /Library/Frameworks/R.framework/Resources/bin/R CMD check --install=check:GA4GHclient.install-out.txt --library=/Library/Frameworks/R.framework/Resources/library --no-vignettes --timings GA4GHclient_1.31.0.tar.gz StartedAt: 2025-02-03 20:37:11 -0500 (Mon, 03 Feb 2025) EndedAt: 2025-02-03 20:42:15 -0500 (Mon, 03 Feb 2025) EllapsedTime: 304.4 seconds RetCode: 0 Status: OK CheckDir: GA4GHclient.Rcheck Warnings: 0