Package: GA4GHclient Version: 1.31.0 Command: /home/biocbuild/R/R/bin/R CMD build --keep-empty-dirs --no-resave-data GA4GHclient StartedAt: 2025-01-28 22:59:29 -0000 (Tue, 28 Jan 2025) EndedAt: 2025-01-28 23:01:26 -0000 (Tue, 28 Jan 2025) EllapsedTime: 117.0 seconds RetCode: 0 Status: OK PackageFile: GA4GHclient_1.31.0.tar.gz PackageFileSize: 736.8 KiB