Package: GA4GHclient Version: 1.31.0 Maintainer: Welliton Souza MaintainerEmail: well309 at gmail.com git_url: https://git.bioconductor.org/packages/GA4GHclient git_branch: devel git_last_commit: 7451330 git_last_commit_date: 2024-10-29 10:18:16 -0500 (Tue, 29 Oct 2024)