Package: G4SNVHunter Version: 1.1.6 Command: chmod a+r G4SNVHunter -R && F:\biocbuild\bbs-3.22-bioc\R\bin\R.exe CMD build --keep-empty-dirs --no-resave-data G4SNVHunter StartedAt: 2025-08-14 20:19:23 -0400 (Thu, 14 Aug 2025) EndedAt: 2025-08-14 20:20:29 -0400 (Thu, 14 Aug 2025) EllapsedTime: 66.2 seconds RetCode: 0 Status: OK PackageFile: G4SNVHunter_1.1.6.tar.gz PackageFileSize: 963.9 KiB