Package: G4SNVHunter Version: 1.1.6 Command: rm -rf G4SNVHunter.buildbin-libdir && mkdir G4SNVHunter.buildbin-libdir && F:\biocbuild\bbs-3.22-bioc\R\bin\R.exe CMD INSTALL --build --library=G4SNVHunter.buildbin-libdir G4SNVHunter_1.1.6.tar.gz StartedAt: 2025-08-15 10:18:18 -0400 (Fri, 15 Aug 2025) EndedAt: 2025-08-15 10:20:21 -0400 (Fri, 15 Aug 2025) EllapsedTime: 123.4 seconds RetCode: 0 Status: OK PackageFile: G4SNVHunter_1.1.6.zip PackageFileSize: 1.382 MiB