Package: G4SNVHunter Version: 0.99.4 Command: /home/biocbuild/R/R/bin/R CMD build --keep-empty-dirs --no-resave-data G4SNVHunter StartedAt: 2025-01-28 22:59:28 -0000 (Tue, 28 Jan 2025) EndedAt: 2025-01-28 23:02:23 -0000 (Tue, 28 Jan 2025) EllapsedTime: 175.1 seconds RetCode: 0 Status: OK PackageFile: G4SNVHunter_0.99.4.tar.gz PackageFileSize: 1.261 MiB