Package: FlowSOM Version: 2.17.0 Command: /home/biocbuild/R/R/bin/R CMD INSTALL FlowSOM StartedAt: 2025-10-09 21:06:38 -0000 (Thu, 09 Oct 2025) EndedAt: 2025-10-09 21:06:58 -0000 (Thu, 09 Oct 2025) EllapsedTime: 20.0 seconds RetCode: 0 Status: OK