Package: FlowSOM Version: 2.17.0 Command: /home/biocbuild/R/R/bin/R CMD build --keep-empty-dirs --no-resave-data FlowSOM StartedAt: 2025-10-10 00:36:35 -0000 (Fri, 10 Oct 2025) EndedAt: 2025-10-10 00:38:58 -0000 (Fri, 10 Oct 2025) EllapsedTime: 143.1 seconds RetCode: 0 Status: OK PackageFile: FlowSOM_2.17.0.tar.gz PackageFileSize: 4.893 MiB