Package: FitHiC Version: 1.35.0 Command: /Library/Frameworks/R.framework/Resources/bin/R CMD INSTALL FitHiC StartedAt: 2025-07-25 15:02:21 -0400 (Fri, 25 Jul 2025) EndedAt: 2025-07-25 15:02:25 -0400 (Fri, 25 Jul 2025) EllapsedTime: 3.6 seconds RetCode: 0 Status: OK