Package: FitHiC Version: 1.35.0 Maintainer: Ruyu Tan MaintainerEmail: rut003 at ucsd.edu git_url: https://git.bioconductor.org/packages/FitHiC git_branch: devel git_last_commit: 9df8563 git_last_commit_date: 2025-04-15 11:05:25 -0400 (Tue, 15 Apr 2025)