Package: FinfoMDS Version: 0.99.2 Command: /home/biocbuild/bbs-3.22-bioc/R/bin/R CMD INSTALL FinfoMDS StartedAt: 2025-09-29 15:39:49 -0400 (Mon, 29 Sep 2025) EndedAt: 2025-09-29 15:40:14 -0400 (Mon, 29 Sep 2025) EllapsedTime: 24.3 seconds RetCode: 0 Status: OK