Package: FinfoMDS Version: 0.99.2 Command: /home/biocbuild/bbs-3.22-bioc/R/bin/R CMD build --keep-empty-dirs --no-resave-data --md5 FinfoMDS StartedAt: 2025-09-29 17:56:21 -0400 (Mon, 29 Sep 2025) EndedAt: 2025-09-29 17:57:11 -0400 (Mon, 29 Sep 2025) EllapsedTime: 50.0 seconds RetCode: 0 Status: OK PackageFile: FinfoMDS_0.99.2.tar.gz PackageFileSize: 357.5 KiB