Package: FinfoMDS Version: 0.99.2 Command: /Library/Frameworks/R.framework/Resources/bin/R CMD build --keep-empty-dirs --no-resave-data FinfoMDS StartedAt: 2025-10-24 16:26:39 -0400 (Fri, 24 Oct 2025) EndedAt: 2025-10-24 16:26:58 -0400 (Fri, 24 Oct 2025) EllapsedTime: 19.2 seconds RetCode: 0 Status: OK PackageFile: FinfoMDS_0.99.2.tar.gz PackageFileSize: 341.4 KiB