Package: FindIT2 Version: 1.15.0 Maintainer: Guandong Shang MaintainerEmail: shangguandong1996 at 163.com git_url: https://git.bioconductor.org/packages/FindIT2 git_branch: devel git_last_commit: 77e881a git_last_commit_date: 2025-04-15 12:34:18 -0400 (Tue, 15 Apr 2025)