Package: FeatSeekR Version: 1.9.0 Command: /home/biocbuild/bbs-3.22-bioc/R/bin/R CMD INSTALL FeatSeekR StartedAt: 2025-10-13 15:33:11 -0400 (Mon, 13 Oct 2025) EndedAt: 2025-10-13 15:33:32 -0400 (Mon, 13 Oct 2025) EllapsedTime: 20.7 seconds RetCode: 0 Status: OK