Package: FeatSeekR Version: 1.9.0 Command: /Library/Frameworks/R.framework/Resources/bin/R CMD check --install=check:FeatSeekR.install-out.txt --library=/Library/Frameworks/R.framework/Resources/library --no-vignettes --timings FeatSeekR_1.9.0.tar.gz StartedAt: 2025-04-27 20:34:28 -0400 (Sun, 27 Apr 2025) EndedAt: 2025-04-27 20:37:24 -0400 (Sun, 27 Apr 2025) EllapsedTime: 176.3 seconds RetCode: 0 Status: OK CheckDir: FeatSeekR.Rcheck Warnings: 0