Package: FeatSeekR Version: 1.9.0 Command: /Library/Frameworks/R.framework/Resources/bin/R CMD build --keep-empty-dirs --no-resave-data FeatSeekR StartedAt: 2025-04-27 16:45:21 -0400 (Sun, 27 Apr 2025) EndedAt: 2025-04-27 16:46:14 -0400 (Sun, 27 Apr 2025) EllapsedTime: 53.2 seconds RetCode: 0 Status: OK PackageFile: FeatSeekR_1.9.0.tar.gz PackageFileSize: 361.8 KiB