Package: FeatSeekR Version: 1.7.2 Command: /Library/Frameworks/R.framework/Resources/bin/R CMD INSTALL FeatSeekR StartedAt: 2025-02-12 15:06:50 -0500 (Wed, 12 Feb 2025) EndedAt: 2025-02-12 15:06:58 -0500 (Wed, 12 Feb 2025) EllapsedTime: 8.1 seconds RetCode: 0 Status: OK