Package: FeatSeekR Version: 1.7.2 Command: /Library/Frameworks/R.framework/Resources/bin/R CMD check --install=check:FeatSeekR.install-out.txt --library=/Library/Frameworks/R.framework/Resources/library --no-vignettes --timings FeatSeekR_1.7.2.tar.gz StartedAt: 2025-02-09 19:12:35 -0500 (Sun, 09 Feb 2025) EndedAt: 2025-02-09 19:13:34 -0500 (Sun, 09 Feb 2025) EllapsedTime: 58.7 seconds RetCode: 0 Status: OK CheckDir: FeatSeekR.Rcheck Warnings: 0