Package: FeatSeekR Version: 1.9.0 Maintainer: Tuemay Capraz MaintainerEmail: tuemay.capraz at embl.de git_url: https://git.bioconductor.org/packages/FeatSeekR git_branch: devel git_last_commit: f94e5db git_last_commit_date: 2025-04-15 13:14:36 -0400 (Tue, 15 Apr 2025)