Package: FastqCleaner Version: 1.25.0 Command: chmod a+r FastqCleaner -R && E:\biocbuild\bbs-3.21-bioc\R\bin\R.exe CMD build --keep-empty-dirs --no-resave-data FastqCleaner StartedAt: 2025-02-03 18:52:27 -0500 (Mon, 03 Feb 2025) EndedAt: 2025-02-03 18:54:44 -0500 (Mon, 03 Feb 2025) EllapsedTime: 137.8 seconds RetCode: 0 Status: OK PackageFile: FastqCleaner_1.25.0.tar.gz PackageFileSize: 4.183 MiB