Package: FastqCleaner Version: 1.25.0 Command: /home/biocbuild/bbs-3.21-bioc/R/bin/R CMD INSTALL FastqCleaner StartedAt: 2025-02-03 15:58:53 -0500 (Mon, 03 Feb 2025) EndedAt: 2025-02-03 15:59:39 -0500 (Mon, 03 Feb 2025) EllapsedTime: 45.4 seconds RetCode: 0 Status: OK