Package: FastqCleaner Version: 1.25.0 Command: /Library/Frameworks/R.framework/Resources/bin/R CMD INSTALL FastqCleaner StartedAt: 2025-02-03 15:32:17 -0500 (Mon, 03 Feb 2025) EndedAt: 2025-02-03 15:33:14 -0500 (Mon, 03 Feb 2025) EllapsedTime: 56.8 seconds RetCode: 0 Status: OK