Package: FastqCleaner Version: 1.25.0 Command: /home/biocbuild/R/R/bin/R CMD INSTALL FastqCleaner StartedAt: 2025-01-29 20:09:35 -0000 (Wed, 29 Jan 2025) EndedAt: 2025-01-29 20:10:43 -0000 (Wed, 29 Jan 2025) EllapsedTime: 68.6 seconds RetCode: 0 Status: OK