Package: FastqCleaner Version: 1.25.0 Command: /home/biocbuild/R/R/bin/R CMD build --keep-empty-dirs --no-resave-data FastqCleaner StartedAt: 2025-01-28 22:51:47 -0000 (Tue, 28 Jan 2025) EndedAt: 2025-01-28 22:53:27 -0000 (Tue, 28 Jan 2025) EllapsedTime: 100.1 seconds RetCode: 0 Status: OK PackageFile: FastqCleaner_1.25.0.tar.gz PackageFileSize: 4.261 MiB