Package: FastqCleaner Version: 1.25.0 Command: /Library/Frameworks/R.framework/Resources/bin/R CMD build --keep-empty-dirs --no-resave-data FastqCleaner StartedAt: 2025-02-03 16:55:11 -0500 (Mon, 03 Feb 2025) EndedAt: 2025-02-03 16:55:37 -0500 (Mon, 03 Feb 2025) EllapsedTime: 26.2 seconds RetCode: 0 Status: OK PackageFile: FastqCleaner_1.25.0.tar.gz PackageFileSize: 4.356 MiB