Package: FamAgg Version: 1.35.0 Command: /Library/Frameworks/R.framework/Resources/bin/R CMD INSTALL FamAgg StartedAt: 2025-02-03 15:42:32 -0500 (Mon, 03 Feb 2025) EndedAt: 2025-02-03 15:42:49 -0500 (Mon, 03 Feb 2025) EllapsedTime: 17.8 seconds RetCode: 0 Status: OK