Package: FamAgg Version: 1.35.0 Command: /Library/Frameworks/R.framework/Resources/bin/R CMD build --keep-empty-dirs --no-resave-data FamAgg StartedAt: 2025-02-03 16:45:48 -0500 (Mon, 03 Feb 2025) EndedAt: 2025-02-03 16:47:06 -0500 (Mon, 03 Feb 2025) EllapsedTime: 77.2 seconds RetCode: 0 Status: OK PackageFile: FamAgg_1.35.0.tar.gz PackageFileSize: 1.635 MiB