Package: FamAgg Version: 1.37.0 Command: /Library/Frameworks/R.framework/Resources/bin/R CMD INSTALL FamAgg StartedAt: 2025-05-06 15:06:07 -0400 (Tue, 06 May 2025) EndedAt: 2025-05-06 15:06:12 -0400 (Tue, 06 May 2025) EllapsedTime: 4.8 seconds RetCode: 0 Status: OK