Package: FamAgg Version: 1.37.0 Command: rm -rf FamAgg.buildbin-libdir && mkdir FamAgg.buildbin-libdir && /Users/biocbuild/BBS/utils/build-universal.sh FamAgg_1.37.0.tar.gz /Library/Frameworks/R.framework/Resources/bin/R FamAgg.buildbin-libdir StartedAt: 2025-05-07 22:54:58 -0400 (Wed, 07 May 2025) EndedAt: 2025-05-07 22:55:04 -0400 (Wed, 07 May 2025) EllapsedTime: 6.2 seconds RetCode: 0 Status: OK PackageFile: FamAgg_1.37.0.tgz PackageFileSize: 2.146 MiB