Package: FRASER Version: 2.5.2 Command: chmod a+r FRASER -R && F:\biocbuild\bbs-3.22-bioc\R\bin\R.exe CMD build --keep-empty-dirs --no-resave-data FRASER StartedAt: 2025-08-14 20:18:42 -0400 (Thu, 14 Aug 2025) EndedAt: 2025-08-14 20:25:18 -0400 (Thu, 14 Aug 2025) EllapsedTime: 396.1 seconds RetCode: 0 Status: OK PackageFile: FRASER_2.5.2.tar.gz PackageFileSize: 1.986 MiB