Package: FRASER Version: 2.5.2 Command: /home/biocbuild/bbs-3.22-bioc/R/bin/R CMD INSTALL FRASER StartedAt: 2025-10-17 15:43:54 -0400 (Fri, 17 Oct 2025) EndedAt: 2025-10-17 15:45:16 -0400 (Fri, 17 Oct 2025) EllapsedTime: 81.3 seconds RetCode: 0 Status: OK